BEGIN:VCALENDAR
VERSION:2.0
PRODID:-//ChamberMaster//Event Calendar 2.0//EN
METHOD:PUBLISH
X-PUBLISHED-TTL:P3D
REFRESH-INTERVAL:P3D
CALSCALE:GREGORIAN
BEGIN:VEVENT
DTSTART:20081212T230000Z
DTEND:20081213T020000Z
X-MICROSOFT-CDO-ALLDAYEVENT:FALSE
SUMMARY:Artwalk- Downtown Mooresville
DESCRIPTION:Along with all the festivities planned for Downtown Mooresville during the Christmas holidays\, the monthly "Artwalk" will also be "happening" this Friday\, December 12 from 6-9 p.m. Musicians will fill the streets with music including The First Baptist Church Handbell Choir. They will be entertaining shoppers and visitors to downtown from 5:45-6:30 at the corner of Main St. and Moore Avenue with songs of the Christmas season
X-ALT-DESC;FMTTYPE=text/html:Along with all the festivities planned for Downtown Mooresville during the Christmas holidays\, the monthly "Artwalk" will also be "happening" this Friday\, December 12 from 6-9 p.m. Musicians will fill the streets with music including The First Baptist Church Handbell Choir. They will be entertaining shoppers and visitors to downtown from 5:45-6:30 at the corner of Main St. and Moore Avenue with songs of the Christmas season
LOCATION:Downtown Mooresville
UID:e.220.6230
SEQUENCE:3
DTSTAMP:20260421T085108Z
URL:https://business.mooresvillenc.org/events/details/artwalk-downtown-mooresville-12-12-2008-6230
END:VEVENT

END:VCALENDAR
