BEGIN:VCALENDAR
VERSION:2.0
PRODID:-//ChamberMaster//Event Calendar 2.0//EN
METHOD:PUBLISH
X-PUBLISHED-TTL:P3D
REFRESH-INTERVAL:P3D
CALSCALE:GREGORIAN
BEGIN:VEVENT
DTSTART:20081114T230000Z
DTEND:20081115T020000Z
X-MICROSOFT-CDO-ALLDAYEVENT:FALSE
SUMMARY:''At the corner of ART & Main'' Artwalk in Historic Downtown Mooresville
DESCRIPTION:Many businesses will be open & serving refreshments.  Music & art featured on the street & in various business.  Come & enjoy the festivites.
X-ALT-DESC;FMTTYPE=text/html:Many businesses will be open & serving refreshments.  Music & art featured on the street & in various business.  Come & enjoy the festivites.
LOCATION:Main & Broad Streets\, Historic Downtown Mooresville
UID:e.220.5389
SEQUENCE:3
DTSTAMP:20260424T122032Z
URL:https://business.mooresvillenc.org/events/details/at-the-corner-of-art-main-artwalk-in-historic-downtown-mooresville-11-14-2008-5389
END:VEVENT

END:VCALENDAR
