BEGIN:VCALENDAR
VERSION:2.0
PRODID:-//ChamberMaster//Event Calendar 2.0//EN
METHOD:PUBLISH
X-PUBLISHED-TTL:P3D
REFRESH-INTERVAL:P3D
CALSCALE:GREGORIAN
BEGIN:VEVENT
DTSTART;VALUE=DATE:20070608
DTEND;VALUE=DATE:20070611
TRANSP:TRANSPARENT
X-MICROSOFT-CDO-ALLDAYEVENT:TRUE
SUMMARY:Biker Rally and Freedom Fest FIELD OF STEEL 2007
DESCRIPTION:North Carolina's BIGGEST Motorcycle Rally - Bikes\, Babes and Bands! \nPoker Run\, Contests\, Vendors and more \n\nEntertainment by: Foghat\, Confederate Railroad\, Kentucky Headhunters \n\nwww.fieldofsteel.com
X-ALT-DESC;FMTTYPE=text/html:North Carolina&rsquo\;s BIGGEST Motorcycle Rally&nbsp\;- Bikes\, Babes and Bands!&nbsp\;<br />Poker Run\, Contests\, Vendors and more <br /><br />Entertainment by: Foghat\, Confederate Railroad\, Kentucky Headhunters&nbsp\;<br /><br /><a href="http://www.fieldofsteel.com">www.fieldofsteel.com</a>
LOCATION:Iredell County Fairgrounds Troutman\, NC
UID:e.220.1348
SEQUENCE:3
DTSTAMP:20260425T143440Z
URL:https://business.mooresvillenc.org/events/details/biker-rally-and-freedom-fest-field-of-steel-2007-06-08-2007-1348
END:VEVENT

END:VCALENDAR
