BEGIN:VCALENDAR
VERSION:2.0
PRODID:-//ChamberMaster//Event Calendar 2.0//EN
METHOD:PUBLISH
X-PUBLISHED-TTL:P3D
REFRESH-INTERVAL:P3D
CALSCALE:GREGORIAN
BEGIN:VEVENT
DTSTART:20081121T230000Z
DTEND:20081122T003000Z
X-MICROSOFT-CDO-ALLDAYEVENT:FALSE
SUMMARY:Buddhist Meditation Class By Gen Tilopa
DESCRIPTION:True Cessations and True Paths
X-ALT-DESC;FMTTYPE=text/html:True Cessations and True Paths \n
LOCATION:Ahlara International
UID:e.220.6040
SEQUENCE:3
DTSTAMP:20260424T121653Z
URL:https://business.mooresvillenc.org/events/details/buddhist-meditation-class-by-gen-tilopa-11-21-2008-6040
END:VEVENT

END:VCALENDAR
