BEGIN:VCALENDAR
VERSION:2.0
PRODID:-//ChamberMaster//Event Calendar 2.0//EN
METHOD:PUBLISH
X-PUBLISHED-TTL:P3D
REFRESH-INTERVAL:P3D
CALSCALE:GREGORIAN
BEGIN:VEVENT
DTSTART;VALUE=DATE:20080315
DTEND;VALUE=DATE:20080316
TRANSP:TRANSPARENT
X-MICROSOFT-CDO-ALLDAYEVENT:TRUE
SUMMARY:Carolina Antique Music and Phonograph Show
DESCRIPTION:Held each year in beautiful downtown Mooresville\, this event brings in dealers and guests from 9 states. Go back to yesteryear. Hear music that was poplarized over 100 years ago. Admission is free to this event.
X-ALT-DESC;FMTTYPE=text/html:Held each year in beautiful downtown Mooresville\, this event brings in dealers and guests from 9 states. Go back to yesteryear. Hear music that was poplarized over 100 years ago. Admission is free to this event. 
LOCATION:Charles Mack Citizens Center
UID:e.220.4054
SEQUENCE:3
DTSTAMP:20260425T003133Z
URL:https://business.mooresvillenc.org/events/details/carolina-antique-music-and-phonograph-show-03-15-2008-4054
END:VEVENT

END:VCALENDAR
