BEGIN:VCALENDAR
VERSION:2.0
PRODID:-//ChamberMaster//Event Calendar 2.0//EN
METHOD:PUBLISH
X-PUBLISHED-TTL:P3D
REFRESH-INTERVAL:P3D
CALSCALE:GREGORIAN
BEGIN:VEVENT
DTSTART:20080117T220000Z
DTEND:20080118T010000Z
X-MICROSOFT-CDO-ALLDAYEVENT:FALSE
SUMMARY:Celebrate Our Local Artists
DESCRIPTION:Celebrate our local artists reception.  Enjoy wine tasting\, live music\, and mingle with the artists.  Featured artists:  Jeff Pender - Sculpture\, Michelle Kovach - Photography\, Janette Cantrel - Mixed Media\, Robyn Plamer - Acrylic\, Ilisa Miller Howell - Gouache and Acrylic Ink.
X-ALT-DESC;FMTTYPE=text/html:Celebrate our local artists reception.  Enjoy wine tasting\, live music\, and mingle with the artists.  Featured artists:  Jeff Pender - Sculpture\, Michelle Kovach - Photography\, Janette Cantrel - Mixed Media\, Robyn Plamer - Acrylic\, Ilisa Miller Howell - Gouache and Acrylic Ink.
LOCATION:Alarha International 115 Joe Knox Avenue (off of Williamson Road\, by the YMCA)
UID:e.220.4006
SEQUENCE:3
DTSTAMP:20260425T034230Z
URL:https://business.mooresvillenc.org/events/details/celebrate-our-local-artists-01-17-2008-4006
END:VEVENT

END:VCALENDAR
