BEGIN:VCALENDAR
VERSION:2.0
PRODID:-//ChamberMaster//Event Calendar 2.0//EN
METHOD:PUBLISH
X-PUBLISHED-TTL:P3D
REFRESH-INTERVAL:P3D
CALSCALE:GREGORIAN
BEGIN:VEVENT
DTSTART;VALUE=DATE:20081209
DTEND;VALUE=DATE:20081210
TRANSP:TRANSPARENT
X-MICROSOFT-CDO-ALLDAYEVENT:TRUE
SUMMARY:Christmas Window Contest - Please Vote
DESCRIPTION:Twenty downtown merchants are participating in the Christmas Window Decorating Contest.  The top prize is $500. Ballots are available at all participating businesses or view the window displays and cast your vote on-line at www.downtownmooresville.com.
X-ALT-DESC;FMTTYPE=text/html:Twenty downtown merchants are participating in the Christmas Window Decorating Contest.  The top prize is $500. Ballots are available at all participating businesses or view the window displays and cast your vote on-line at www.downtownmooresville.com. \n\n
LOCATION:Downtown- Main & Broad Streets
UID:e.220.6229
SEQUENCE:3
DTSTAMP:20260421T083705Z
URL:https://business.mooresvillenc.org/events/details/christmas-window-contest-please-vote-12-09-2008-6229
END:VEVENT

END:VCALENDAR
