BEGIN:VCALENDAR
VERSION:2.0
PRODID:-//ChamberMaster//Event Calendar 2.0//EN
METHOD:PUBLISH
X-PUBLISHED-TTL:P3D
REFRESH-INTERVAL:P3D
CALSCALE:GREGORIAN
BEGIN:VEVENT
DTSTART:20081101T230000Z
DTEND:20081102T040000Z
X-MICROSOFT-CDO-ALLDAYEVENT:FALSE
SUMMARY:ClubFX LIve Music Mayhem!!
DESCRIPTION:Teens 13-19 are welcome to attend this FREE EVENT!!  Three local bands will play their original songs.  The mayhem starts at 7:00pm!!\n\nNo drugs\, alcohol\, or tobacco products allowed on premises.\nDress Code strictly enforced.\n\nCheck out the ClubFX website for more information and direct links to the bands that will be playing!!  www.clubfx.com\n\nRockwall and Arcade will be open!!\nBands will be selling merchandise!!
X-ALT-DESC;FMTTYPE=text/html:Teens 13-19 are welcome to attend this FREE EVENT!!  Three local bands will play their original songs.  The mayhem starts at 7:00pm!!\n\nNo drugs\, alcohol\, or tobacco products allowed on premises.\nDress Code strictly enforced.\n\nCheck out the ClubFX website for more information and direct links to the bands that will be playing!!  www.clubfx.com\n\nRockwall and Arcade will be open!!\nBands will be selling merchandise!!\n
LOCATION:ClubFX\, 243 Overhill Drive\, Mooresville\, NC 28117
UID:e.220.5810
SEQUENCE:3
DTSTAMP:20260424T121809Z
URL:https://business.mooresvillenc.org/events/details/clubfx-live-music-mayhem-11-01-2008-5810
END:VEVENT

END:VCALENDAR
