BEGIN:VCALENDAR
VERSION:2.0
PRODID:-//ChamberMaster//Event Calendar 2.0//EN
METHOD:PUBLISH
X-PUBLISHED-TTL:P3D
REFRESH-INTERVAL:P3D
CALSCALE:GREGORIAN
BEGIN:VEVENT
DTSTART:20080303T000000Z
DTEND:20080305T000000Z
X-MICROSOFT-CDO-ALLDAYEVENT:FALSE
SUMMARY:Dr. Jim Fleming - ''Holy Week: The Passion of Christ''
DESCRIPTION:Sunday\, March 2\, 7:00 PM - "The journey to Jerusalem"\nMonday\, March 3\, 6:00 PM - "Current Middle East Situation" \n                             7:00 PM - "The Last Supper"\nTuesday\, March 4\, 7:00 PM - "The Cricifixion as Passover"
X-ALT-DESC;FMTTYPE=text/html:Sunday\, March 2\, 7:00 PM - "The journey to Jerusalem"\nMonday\, March 3\, 6:00 PM - "Current Middle East Situation" \n                             7:00 PM - "The Last Supper"\nTuesday\, March 4\, 7:00 PM - "The Cricifixion as Passover"
LOCATION:214 N. Academy St.
UID:e.220.4074
SEQUENCE:3
DTSTAMP:20260425T003113Z
URL:https://business.mooresvillenc.org/events/details/dr-jim-fleming-holy-week-the-passion-of-christ-03-02-2008-4074
END:VEVENT

END:VCALENDAR
