BEGIN:VCALENDAR
VERSION:2.0
PRODID:-//ChamberMaster//Event Calendar 2.0//EN
METHOD:PUBLISH
X-PUBLISHED-TTL:P3D
REFRESH-INTERVAL:P3D
CALSCALE:GREGORIAN
BEGIN:VEVENT
DTSTART:20080628T200000Z
DTEND:20080628T200000Z
X-MICROSOFT-CDO-ALLDAYEVENT:FALSE
SUMMARY:Fiesta Latino
DESCRIPTION:The event\, a celebration of Hispanic culture\, will feature Latin music\, dance and art. Performers include singer\, songwriter\, and percussionist\, Sendy MÃ©ndez\; classical guitarist\, Miguel Pico\; and salsa\, flamenco and tango dancer\, Rodrigo JimÃ©nez. The event also includes an art exhibit by Andrew Gil. Food and beverage will be provided by Cozumel Mexican Restaurant and Mi Pueblo. The event is made possible by a grant from the Iredell Arts Council
X-ALT-DESC;FMTTYPE=text/html:The event\, a celebration of Hispanic culture\, will feature Latin music\, dance and art. Performers include singer\, songwriter\, and percussionist\, Sendy MÃ©ndez\; classical guitarist\, Miguel Pico\; and salsa\, flamenco and tango dancer\, Rodrigo JimÃ©nez. The event also includes an art exhibit by Andrew Gil. Food and beverage will be provided by Cozumel Mexican Restaurant and Mi Pueblo. The event is made possible by a grant from the Iredell Arts Council
LOCATION:The Circle\, Mitchell Community College 500 W. Broad St.\, Statesville\, NC
UID:e.220.5385
SEQUENCE:3
DTSTAMP:20260424T195855Z
URL:https://business.mooresvillenc.org/events/details/fiesta-latino-06-28-2008-5385
END:VEVENT

END:VCALENDAR
