BEGIN:VCALENDAR
VERSION:2.0
PRODID:-//ChamberMaster//Event Calendar 2.0//EN
METHOD:PUBLISH
X-PUBLISHED-TTL:P3D
REFRESH-INTERVAL:P3D
CALSCALE:GREGORIAN
BEGIN:VEVENT
DTSTART;VALUE=DATE:20080929
DTEND;VALUE=DATE:20080930
TRANSP:TRANSPARENT
X-MICROSOFT-CDO-ALLDAYEVENT:TRUE
SUMMARY:Free Day of Pampering @ FaceLogic Spa for Cancer patients & survivors
DESCRIPTION:Wednesday\, October 22nd ?Day of Pampering? for breast cancer patients and survivors @ FaceLogic Spa\, please call for your appointment 704-660-3922   http://facelogicspa.com
X-ALT-DESC;FMTTYPE=text/html:Wednesday\, October 22nd ?Day of Pampering? for breast cancer patients and survivors @ FaceLogic Spa\, please call for your appointment 704-660-3922   http://facelogicspa.com 
LOCATION:FaceLogic Day Spa\, 124 B Trade Court in the Mooresville Gateway\, I -77 Exit 33\, Mooresville
UID:e.220.5728
SEQUENCE:3
DTSTAMP:20260424T154609Z
URL:https://business.mooresvillenc.org/events/details/free-day-of-pampering-facelogic-spa-for-cancer-patients-survivors-09-29-2008-5728
END:VEVENT

END:VCALENDAR
