BEGIN:VCALENDAR
VERSION:2.0
PRODID:-//ChamberMaster//Event Calendar 2.0//EN
METHOD:PUBLISH
X-PUBLISHED-TTL:P3D
REFRESH-INTERVAL:P3D
CALSCALE:GREGORIAN
BEGIN:VEVENT
DTSTART:20081108T180000Z
DTEND:20081108T200000Z
X-MICROSOFT-CDO-ALLDAYEVENT:FALSE
SUMMARY:History of Lake Norman Presented by Cindy Jacobs
DESCRIPTION:Cindy Jacobs\, author of ?Around Lake Norman\,? will host an informative program on the history of Lake Norman and the electrification of the Catawba River\, as well as who is currently minding the lake.
X-ALT-DESC;FMTTYPE=text/html:Cindy Jacobs\, author of ?Around Lake Norman\,? will host an informative program on the history of Lake Norman and the electrification of the Catawba River\, as well as who is currently minding the lake. \n
LOCATION:The EnergyExplorium at McGuire Nuclear Station
UID:e.220.5809
SEQUENCE:3
DTSTAMP:20260424T121809Z
URL:https://business.mooresvillenc.org/events/details/history-of-lake-norman-presented-by-cindy-jacobs-11-08-2008-5809
END:VEVENT

END:VCALENDAR
