BEGIN:VCALENDAR
VERSION:2.0
PRODID:-//ChamberMaster//Event Calendar 2.0//EN
METHOD:PUBLISH
X-PUBLISHED-TTL:P3D
REFRESH-INTERVAL:P3D
CALSCALE:GREGORIAN
BEGIN:VEVENT
DTSTART:20081206T140000Z
DTEND:20081206T210000Z
X-MICROSOFT-CDO-ALLDAYEVENT:FALSE
SUMMARY:Holiday Open House @ Southland Log Homes
DESCRIPTION:America?s largest log home company\, Southland Log Homes\, has announced a Holiday Open House event scheduled for Saturday\, December 6th\, 2008\, from 9 a.m. to 4 p.m.  At 11 a.m.\, Managing Partner Rick Brown will discuss why buying and building a log home now is more affordable than ever.  Southland will display their Christmas decorations and provide holiday treats for families who are dreaming of log home living\, or are just interested in the log home building process.\nAt 11 a.m.\, Southland Log Homes Managing Partner\, Rick Brown\, will review the affordability of materials\, land\, building costs\, low mortgage rates and the 7.5% federal tax credit\, which is providing additional savings. Rick will also announce an all-new brand of affordable homes that is being launched by Southland called Solid Wood Homes.  \nGuests are encouraged to visit the Southland Log Homes website to print a coupon that can be redeemed at the event for a free copy of the 78-page Southland Log Homes Planning Guide\, a $10 value. For more information about Southland Log Homes or the Holiday Open House\, call Susan at (800) 892-2322\, or visit us online at www.southlandloghomes.com or www.solidwoodhomes.com.
X-ALT-DESC;FMTTYPE=text/html:America?s largest log home company\, Southland Log Homes\, has announced a Holiday Open House event scheduled for Saturday\, December 6th\, 2008\, from 9 a.m. to 4 p.m.  At 11 a.m.\, Managing Partner Rick Brown will discuss why buying and building a log home now is more affordable than ever.  Southland will display their Christmas decorations and provide holiday treats for families who are dreaming of log home living\, or are just interested in the log home building process.\nAt 11 a.m.\, Southland Log Homes Managing Partner\, Rick Brown\, will review the affordability of materials\, land\, building costs\, low mortgage rates and the 7.5% federal tax credit\, which is providing additional savings. Rick will also announce an all-new brand of affordable homes that is being launched by Southland called Solid Wood Homes.  \nGuests are encouraged to visit the Southland Log Homes website to print a coupon that can be redeemed at the event for a free copy of the 78-page Southland Log Homes Planning Guide\, a $10 value. For more information about Southland Log Homes or the Holiday Open House\, call Susan at (800) 892-2322\, or visit us online at www.southlandloghomes.com or www.solidwoodhomes.com.\n\n \n\n\n\n
LOCATION:The local fully furnished model home sales office is located in Statesville on I-40W at exit 150.
UID:e.220.5900
SEQUENCE:3
DTSTAMP:20260421T084039Z
URL:https://business.mooresvillenc.org/events/details/holiday-open-house-southland-log-homes-12-06-2008-5900
END:VEVENT

END:VCALENDAR
