BEGIN:VCALENDAR
VERSION:2.0
PRODID:-//ChamberMaster//Event Calendar 2.0//EN
METHOD:PUBLISH
X-PUBLISHED-TTL:P3D
REFRESH-INTERVAL:P3D
CALSCALE:GREGORIAN
BEGIN:VEVENT
DTSTART:20080426T230000Z
DTEND:20080427T010000Z
X-MICROSOFT-CDO-ALLDAYEVENT:FALSE
SUMMARY:How The West Was Sung
DESCRIPTION:The Carolina Classic Barbershop Chorus of Mooresville presents a barbershop harmony cowboy musical.  The show features the Triad Harmony Express from Winston-Salem and special guests Bar None\, the always popular and entertaining quartet.
X-ALT-DESC;FMTTYPE=text/html:The Carolina Classic Barbershop Chorus of Mooresville presents a barbershop harmony cowboy musical.  The show features the Triad Harmony Express from Winston-Salem and special guests Bar None\, the always popular and entertaining quartet.
LOCATION:Lake Norman High School (186 Doolie Rd. Mooresville\, NC 28117)
UID:e.220.4438
SEQUENCE:3
DTSTAMP:20260424T225739Z
URL:https://business.mooresvillenc.org/events/details/how-the-west-was-sung-04-26-2008-4438
END:VEVENT

END:VCALENDAR
