BEGIN:VCALENDAR
VERSION:2.0
PRODID:-//ChamberMaster//Event Calendar 2.0//EN
METHOD:PUBLISH
X-PUBLISHED-TTL:P3D
REFRESH-INTERVAL:P3D
CALSCALE:GREGORIAN
BEGIN:VEVENT
DTSTART;VALUE=DATE:20081115
DTEND;VALUE=DATE:20081116
TRANSP:TRANSPARENT
X-MICROSOFT-CDO-ALLDAYEVENT:TRUE
SUMMARY:Kerrigan's Ice Cream and Winey Bears
DESCRIPTION:Sally will be repairing children and adult Teddy Bears and stuffed animals. Bring your toys for repair by Sally Winey www.sallywinebears.com \nKerrigan's will be holding this event to benifit  "Dove House\nDrawing for Kerrigan's Limited edition  20 of " Fudgy"  #1 Handmade by Sally Winey
X-ALT-DESC;FMTTYPE=text/html:Sally will be repairing children and adult Teddy Bears and stuffed animals. Bring your toys for repair by Sally Winey www.sallywinebears.com \nKerrigan's will be holding this event to benifit  "Dove House\nDrawing for Kerrigan's Limited edition  20 of " Fudgy"  #1 Handmade by Sally Winey 
LOCATION:862 Brawley School Road. Mooresville NC 28117
UID:e.220.5772
SEQUENCE:3
DTSTAMP:20260424T121809Z
URL:https://business.mooresvillenc.org/events/details/kerrigan-s-ice-cream-and-winey-bears-11-15-2008-5772
END:VEVENT

END:VCALENDAR
