BEGIN:VCALENDAR
VERSION:2.0
PRODID:-//ChamberMaster//Event Calendar 2.0//EN
METHOD:PUBLISH
X-PUBLISHED-TTL:P3D
REFRESH-INTERVAL:P3D
CALSCALE:GREGORIAN
BEGIN:VEVENT
DTSTART:20080517T230000Z
DTEND:20080518T010000Z
X-MICROSOFT-CDO-ALLDAYEVENT:FALSE
SUMMARY:Lake Norman Orchestra Concert
DESCRIPTION:LKNO will present its Fifth Anniversary Celebration Concert\, which will feature the premier performance of "Lake Dance"\, a score commissioned in honor of this milestone.  A Meet-the-Composer reception will follow the performance.  The Lake Norman community is invited to this free concert to celebrate five years of making beautiful music!  This concert will be the finale for the Race City Festival\, a celebration of Mooresville Arts and Culture.
X-ALT-DESC;FMTTYPE=text/html:LKNO will present its Fifth Anniversary Celebration Concert\, which will feature the premier performance of "Lake Dance"\, a score commissioned in honor of this milestone.  A Meet-the-Composer reception will follow the performance.  The Lake Norman community is invited to this free concert to celebrate five years of making beautiful music!  This concert will be the finale for the Race City Festival\, a celebration of Mooresville Arts and Culture.
LOCATION:Peninsula Baptist Church 687 Brawley School Road
UID:e.220.4630
SEQUENCE:3
DTSTAMP:20260424T212746Z
URL:https://business.mooresvillenc.org/events/details/lake-norman-orchestra-concert-05-17-2008-4630
END:VEVENT

END:VCALENDAR
