BEGIN:VCALENDAR
VERSION:2.0
PRODID:-//ChamberMaster//Event Calendar 2.0//EN
METHOD:PUBLISH
X-PUBLISHED-TTL:P3D
REFRESH-INTERVAL:P3D
CALSCALE:GREGORIAN
BEGIN:VEVENT
DTSTART:20070703T220000Z
DTEND:20070704T020000Z
X-MICROSOFT-CDO-ALLDAYEVENT:FALSE
SUMMARY:Lake Norman Orchestra Concert
DESCRIPTION:"Summer Celebration" at Lowes YMCA\nFree concert open to the public\nBring a picnic and enjoy fireworks after the concert
X-ALT-DESC;FMTTYPE=text/html:"Summer Celebration" at Lowes YMCA\nFree concert open to the public\nBring a picnic and enjoy fireworks after the concert
LOCATION:Lowes YMCA\, 170 Joe V. Knox Avenue\, Mooresville
UID:e.220.3128
SEQUENCE:3
DTSTAMP:20260425T131051Z
URL:https://business.mooresvillenc.org/events/details/lake-norman-orchestra-concert-07-03-2007-3128
END:VEVENT

END:VCALENDAR
