BEGIN:VCALENDAR
VERSION:2.0
PRODID:-//ChamberMaster//Event Calendar 2.0//EN
METHOD:PUBLISH
X-PUBLISHED-TTL:P3D
REFRESH-INTERVAL:P3D
CALSCALE:GREGORIAN
BEGIN:VEVENT
DTSTART:20080703T230000Z
DTEND:20080704T010000Z
X-MICROSOFT-CDO-ALLDAYEVENT:FALSE
SUMMARY:Lake Norman Orchestra Concert
DESCRIPTION:Join the Mooresville community as we celebrate Independence Day at the Lowe's YMCA Summer Celebration.  LKNO will perform a patriotic concert\, followed by a fireworks extravanganza.  Bring your family and friends\, a picnic and blankets\, to enjoy an afternoon / evening of fun activities for the entire family.  What better way to celebrate the holiday.
X-ALT-DESC;FMTTYPE=text/html:Join the Mooresville community as we celebrate Independence Day at the Lowe's YMCA Summer Celebration.  LKNO will perform a patriotic concert\, followed by a fireworks extravanganza.  Bring your family and friends\, a picnic and blankets\, to enjoy an afternoon / evening of fun activities for the entire family.  What better way to celebrate the holiday.
LOCATION:Lowe's YMCA 170 Joe V Knox Avenue
UID:e.220.4631
SEQUENCE:3
DTSTAMP:20260424T182524Z
URL:https://business.mooresvillenc.org/events/details/lake-norman-orchestra-concert-07-03-2008-4631
END:VEVENT

END:VCALENDAR
