BEGIN:VCALENDAR
VERSION:2.0
PRODID:-//ChamberMaster//Event Calendar 2.0//EN
METHOD:PUBLISH
X-PUBLISHED-TTL:P3D
REFRESH-INTERVAL:P3D
CALSCALE:GREGORIAN
BEGIN:VEVENT
DTSTART:20080713T220000Z
DTEND:20080713T233000Z
X-MICROSOFT-CDO-ALLDAYEVENT:FALSE
SUMMARY:Lake Norman Orchestra Concert
DESCRIPTION:LKNO will perform at Davidson's Concerts on the Green in celebration of its fifth anniversary this year.  In May 2003\, LKNO made its debut public performance on the steps of the Davidson Library\, with only 20 members.  Now with over 60 active musicians\, LKNO is excited to return to Davidson.  Bring your family and friends\, a picnic and blankets\, and enjoy an evening of fine musical entertainment.
X-ALT-DESC;FMTTYPE=text/html:LKNO will perform at Davidson's Concerts on the Green in celebration of its fifth anniversary this year.  In May 2003\, LKNO made its debut public performance on the steps of the Davidson Library\, with only 20 members.  Now with over 60 active musicians\, LKNO is excited to return to Davidson.  Bring your family and friends\, a picnic and blankets\, and enjoy an evening of fine musical entertainment.
LOCATION:Downtown Davidson on the Green
UID:e.220.4632
SEQUENCE:3
DTSTAMP:20260424T182355Z
URL:https://business.mooresvillenc.org/events/details/lake-norman-orchestra-concert-07-13-2008-4632
END:VEVENT

END:VCALENDAR
