BEGIN:VCALENDAR
VERSION:2.0
PRODID:-//ChamberMaster//Event Calendar 2.0//EN
METHOD:PUBLISH
X-PUBLISHED-TTL:P3D
REFRESH-INTERVAL:P3D
CALSCALE:GREGORIAN
BEGIN:VEVENT
DTSTART:20070804T230000Z
DTEND:20070805T010000Z
X-MICROSOFT-CDO-ALLDAYEVENT:FALSE
SUMMARY:Lake Norman Orchestra Concert
DESCRIPTION:Free outdoor concert.  Bring a picnic and enjoy an evening of fine music
X-ALT-DESC;FMTTYPE=text/html:Free outdoor concert.  Bring a picnic and enjoy an evening of fine music
LOCATION:Birkdale Village\, Huntersville
UID:e.220.3124
SEQUENCE:3
DTSTAMP:20260425T112404Z
URL:https://business.mooresvillenc.org/events/details/lake-norman-orchestra-concert-08-04-2007-3124
END:VEVENT

END:VCALENDAR
