BEGIN:VCALENDAR
VERSION:2.0
PRODID:-//ChamberMaster//Event Calendar 2.0//EN
METHOD:PUBLISH
X-PUBLISHED-TTL:P3D
REFRESH-INTERVAL:P3D
CALSCALE:GREGORIAN
BEGIN:VEVENT
DTSTART:20070825T230000Z
DTEND:20070826T010000Z
X-MICROSOFT-CDO-ALLDAYEVENT:FALSE
SUMMARY:Lake Norman Orchestra Concert
DESCRIPTION:Fundraiser concert to benefit St. Therese and LKNO music programs
X-ALT-DESC;FMTTYPE=text/html:Fundraiser concert to benefit St. Therese and LKNO music programs
LOCATION:St. Therese Catholic Church\, 217 Brawley School Road
UID:e.220.3125
SEQUENCE:3
DTSTAMP:20260425T112440Z
URL:https://business.mooresvillenc.org/events/details/lake-norman-orchestra-concert-08-25-2007-3125
END:VEVENT

END:VCALENDAR
