BEGIN:VCALENDAR
VERSION:2.0
PRODID:-//ChamberMaster//Event Calendar 2.0//EN
METHOD:PUBLISH
X-PUBLISHED-TTL:P3D
REFRESH-INTERVAL:P3D
CALSCALE:GREGORIAN
BEGIN:VEVENT
DTSTART:20080927T233000Z
DTEND:20080928T010000Z
X-MICROSOFT-CDO-ALLDAYEVENT:FALSE
SUMMARY:Lake Norman Orchestra Concert
DESCRIPTION:Lake Norman Orchestra is excited to return to Shearer Hall at Mitchell Community College as part of their concert series.  Make plans to enjoy an evening of fine musical entertainment designed to delight all ages.  The program will include a variety of music from Classical\, to Broadway to pops.
X-ALT-DESC;FMTTYPE=text/html:Lake Norman Orchestra is excited to return to Shearer Hall at Mitchell Community College as part of their concert series.  Make plans to enjoy an evening of fine musical entertainment designed to delight all ages.  The program will include a variety of music from Classical\, to Broadway to pops.
LOCATION:Mitchell Community College Statesville
UID:e.220.4633
SEQUENCE:3
DTSTAMP:20260424T154420Z
URL:https://business.mooresvillenc.org/events/details/lake-norman-orchestra-concert-09-27-2008-4633
END:VEVENT

END:VCALENDAR
