BEGIN:VCALENDAR
VERSION:2.0
PRODID:-//ChamberMaster//Event Calendar 2.0//EN
METHOD:PUBLISH
X-PUBLISHED-TTL:P3D
REFRESH-INTERVAL:P3D
CALSCALE:GREGORIAN
BEGIN:VEVENT
DTSTART;VALUE=DATE:20070520
DTEND;VALUE=DATE:20070521
TRANSP:TRANSPARENT
X-MICROSOFT-CDO-ALLDAYEVENT:TRUE
SUMMARY:Lake Norman Orchestra Concert and Dinner at Outback
DESCRIPTION:Sunday\, May 20: \n"Out Back with LKNO" \nEnjoy a concert by LKNO & dinner by Outback Steakhouse \nKenton Place\, in front of the old Palace Theatre \nW. Catawaba Ave & NC 73 in Cornelius \nDinner at 6 p.m. with concert at 6:30 p.m. \nBring a big appetite\, chairs and blankets \nOutdoor concert is free to the public \nTickets for dinner are $10 for adults\, $5 for children 12 and under \nMore information: Email events@lknorchestra.org or call (704) 799-9995
X-ALT-DESC;FMTTYPE=text/html:<strong><u><font face="Courier New" size="2">Sunday\, May 20:</font></u></strong> <br /><font face="Courier New" size="2">&quot\;Out Back with LKNO&quot\;</font> <br /><font face="Courier New" size="2">Enjoy a concert by LKNO &amp\; dinner by Outback Steakhouse</font> <br /><font face="Courier New" size="2">Kenton Place\, in front of the old Palace Theatre</font> <br /><font face="Courier New" size="2">W. Catawaba Ave &amp\; NC 73 in Cornelius</font> <br /><font face="Courier New" size="2">Dinner at 6 p.m. with concert at 6:30 p.m.</font> <br /><font face="Courier New" size="2">Bring a big appetite\, chairs and blankets </font><br /><font face="Courier New" size="2">Outdoor concert is free to the public</font> <br /><font face="Courier New" size="2">Tickets for dinner are $10 for adults\, $5 for children 12 and under</font> <br /><font face="Courier New" size="2">More information: Email events@lknorchestra.org or call (704) 799-9995</font>
LOCATION:Outback Steakhouse Kenton Place\, in front of the old Palace Theatre W. Catawaba Ave & NC 73 in Cornelius
UID:e.220.93
SEQUENCE:3
DTSTAMP:20260425T162211Z
URL:https://business.mooresvillenc.org/events/details/lake-norman-orchestra-concert-and-dinner-at-outback-05-20-2007-93
END:VEVENT

END:VCALENDAR
