BEGIN:VCALENDAR
VERSION:2.0
PRODID:-//ChamberMaster//Event Calendar 2.0//EN
METHOD:PUBLISH
X-PUBLISHED-TTL:P3D
REFRESH-INTERVAL:P3D
CALSCALE:GREGORIAN
BEGIN:VEVENT
DTSTART:20080517T230000Z
DTEND:20080518T010000Z
X-MICROSOFT-CDO-ALLDAYEVENT:FALSE
SUMMARY:Lake Norman Orchestra ''Fifth Anniversary Celebration'' concert
DESCRIPTION:Lake Norman Orchestra will present a free celebration concert in honor of its fifth anniversary and to thank the Mooresville community for its ongoing support.  The program will include the premier of "Lake Dance"\, commissioned specifically for this milestone.  Dr. William G. Harbinson\, composer\, will be the guest conductor.  A Meet-the-Composer reception will follow the performance.  This concert is the finale of the "Race City Festival\, A Celebration of Mooresville Arts and Culture" sponsored by the Mooresville-South Iredell Chamber.  Everyone is invited to join in the festivities.
X-ALT-DESC;FMTTYPE=text/html:Lake Norman Orchestra will present a free celebration concert in honor of its fifth anniversary and to thank the Mooresville community for its ongoing support.  The program will include the premier of "Lake Dance"\, commissioned specifically for this milestone.  Dr. William G. Harbinson\, composer\, will be the guest conductor.  A Meet-the-Composer reception will follow the performance.  This concert is the finale of the "Race City Festival\, A Celebration of Mooresville Arts and Culture" sponsored by the Mooresville-South Iredell Chamber.  Everyone is invited to join in the festivities.
LOCATION:Peninsula Baptist Church 687 Brawley School Road
UID:e.220.4052
SEQUENCE:3
DTSTAMP:20260424T212804Z
URL:https://business.mooresvillenc.org/events/details/lake-norman-orchestra-fifth-anniversary-celebration-concert-05-17-2008-4052
END:VEVENT

END:VCALENDAR
