BEGIN:VCALENDAR
VERSION:2.0
PRODID:-//ChamberMaster//Event Calendar 2.0//EN
METHOD:PUBLISH
X-PUBLISHED-TTL:P3D
REFRESH-INTERVAL:P3D
CALSCALE:GREGORIAN
BEGIN:VEVENT
DTSTART:20080407T230000Z
DTEND:20080408T003000Z
X-MICROSOFT-CDO-ALLDAYEVENT:FALSE
SUMMARY:Lake Norman Orchestra presents ''A Taste of Music''
DESCRIPTION:LKNO will present "A Taste of Music" for the students and their families in the Mooresville area elementary\, intermediate and middle schools.  This program is designed to entertain the students and introduce them to orchestral music to encourage their participation in music instruction.  A "petting zoo" will follow the performance to allow the students to see the instruments up close and speak with the musicians.
X-ALT-DESC;FMTTYPE=text/html:LKNO will present "A Taste of Music" for the students and their families in the Mooresville area elementary\, intermediate and middle schools.  This program is designed to entertain the students and introduce them to orchestral music to encourage their participation in music instruction.  A "petting zoo" will follow the performance to allow the students to see the instruments up close and speak with the musicians.
LOCATION:Mooresville High School Auditorium 659 East Center Avenue\, Mooresville
UID:e.220.4051
SEQUENCE:3
DTSTAMP:20260424T225902Z
URL:https://business.mooresvillenc.org/events/details/lake-norman-orchestra-presents-a-taste-of-music-04-07-2008-4051
END:VEVENT

END:VCALENDAR
