BEGIN:VCALENDAR
VERSION:2.0
PRODID:-//ChamberMaster//Event Calendar 2.0//EN
METHOD:PUBLISH
X-PUBLISHED-TTL:P3D
REFRESH-INTERVAL:P3D
CALSCALE:GREGORIAN
BEGIN:VEVENT
DTSTART:20080703T230000Z
DTEND:20080704T010000Z
X-MICROSOFT-CDO-ALLDAYEVENT:FALSE
SUMMARY:Lake Norman Orchestra ''Summer Celebration'' concert
DESCRIPTION:Lake Norman Orchestra will perform once again this year at the Lowes YMCA "Summer Celebration" in honor of Independence Day.  Bring a picnic\, blankets and chairs to enjoy an evening of patriotic music followed by a fireworks extravanganza.   Lots of special events and fun activities are planned for the entire family.
X-ALT-DESC;FMTTYPE=text/html:Lake Norman Orchestra will perform once again this year at the Lowes YMCA "Summer Celebration" in honor of Independence Day.  Bring a picnic\, blankets and chairs to enjoy an evening of patriotic music followed by a fireworks extravanganza.   Lots of special events and fun activities are planned for the entire family. 
LOCATION:Lowes YMCA 170 Joe V Knox Avenue\, Mooresville
UID:e.220.4053
SEQUENCE:3
DTSTAMP:20260424T182427Z
URL:https://business.mooresvillenc.org/events/details/lake-norman-orchestra-summer-celebration-concert-07-03-2008-4053
END:VEVENT

END:VCALENDAR
