BEGIN:VCALENDAR
VERSION:2.0
PRODID:-//ChamberMaster//Event Calendar 2.0//EN
METHOD:PUBLISH
X-PUBLISHED-TTL:P3D
REFRESH-INTERVAL:P3D
CALSCALE:GREGORIAN
BEGIN:VEVENT
DTSTART:20080224T003000Z
DTEND:20080224T003000Z
X-MICROSOFT-CDO-ALLDAYEVENT:FALSE
SUMMARY:Live Music by Casino Cruze
DESCRIPTION:Live Music by Casino Cruze\nwww.casinocruze.com
X-ALT-DESC;FMTTYPE=text/html:Live Music by Casino Cruze\nwww.casinocruze.com
LOCATION:Legends of Lake Norman 123 - E Trade Court\, Mooresville\, NC 28117
UID:e.220.4070
SEQUENCE:3
DTSTAMP:20260425T034514Z
URL:https://business.mooresvillenc.org/events/details/live-music-by-casino-cruze-02-23-2008-4070
END:VEVENT

END:VCALENDAR
