BEGIN:VCALENDAR
VERSION:2.0
PRODID:-//ChamberMaster//Event Calendar 2.0//EN
METHOD:PUBLISH
X-PUBLISHED-TTL:P3D
REFRESH-INTERVAL:P3D
CALSCALE:GREGORIAN
BEGIN:VEVENT
DTSTART:20080125T003000Z
DTEND:20080125T040000Z
X-MICROSOFT-CDO-ALLDAYEVENT:FALSE
SUMMARY:LIve Music with Kate Minogue
DESCRIPTION:www.myspace.com/kateminogue
X-ALT-DESC;FMTTYPE=text/html:www.myspace.com/kateminogue
LOCATION:Legends of Lake Norman
UID:e.220.3993
SEQUENCE:3
DTSTAMP:20260425T034046Z
URL:https://business.mooresvillenc.org/events/details/live-music-with-kate-minogue-01-24-2008-3993
END:VEVENT

END:VCALENDAR
