BEGIN:VCALENDAR
VERSION:2.0
PRODID:-//ChamberMaster//Event Calendar 2.0//EN
METHOD:PUBLISH
X-PUBLISHED-TTL:P3D
REFRESH-INTERVAL:P3D
CALSCALE:GREGORIAN
BEGIN:VEVENT
DTSTART:20080328T233000Z
DTEND:20080329T030000Z
X-MICROSOFT-CDO-ALLDAYEVENT:FALSE
SUMMARY:Live Music with Scotti & Clyde
DESCRIPTION:LIve Music with Scotti & Clyde\nwww.purvolume.com/scotticlyde
X-ALT-DESC;FMTTYPE=text/html:LIve Music with Scotti & Clyde\nwww.purvolume.com/scotticlyde
LOCATION:Legends of Lake Norman 123 - E Trade Court\, Gateway Business Park\, Mooresville
UID:e.220.4434
SEQUENCE:3
DTSTAMP:20260425T003022Z
URL:https://business.mooresvillenc.org/events/details/live-music-with-scotti-clyde-03-28-2008-4434
END:VEVENT

END:VCALENDAR
