BEGIN:VCALENDAR
VERSION:2.0
PRODID:-//ChamberMaster//Event Calendar 2.0//EN
METHOD:PUBLISH
X-PUBLISHED-TTL:P3D
REFRESH-INTERVAL:P3D
CALSCALE:GREGORIAN
BEGIN:VEVENT
DTSTART:20080119T003000Z
DTEND:20080119T040000Z
X-MICROSOFT-CDO-ALLDAYEVENT:FALSE
SUMMARY:Live Music with Wally Germany & Dave Butler
DESCRIPTION:Live Music with Wally Germany accompained by Dave Butler
X-ALT-DESC;FMTTYPE=text/html:Live Music with Wally Germany accompained by Dave Butler
LOCATION:Legends of Lake Norman
UID:e.220.3988
SEQUENCE:3
DTSTAMP:20260425T034508Z
URL:https://business.mooresvillenc.org/events/details/live-music-with-wally-germany-dave-butler-01-18-2008-3988
END:VEVENT

END:VCALENDAR
