BEGIN:VCALENDAR
VERSION:2.0
PRODID:-//ChamberMaster//Event Calendar 2.0//EN
METHOD:PUBLISH
X-PUBLISHED-TTL:P3D
REFRESH-INTERVAL:P3D
CALSCALE:GREGORIAN
BEGIN:VEVENT
DTSTART:20080223T003000Z
DTEND:20080223T003000Z
X-MICROSOFT-CDO-ALLDAYEVENT:FALSE
SUMMARY:Live Music with Wally Germany & Dave Butler
DESCRIPTION:Live Music with Wally Germany & Dave Butler\nwww.wallygermany.com
X-ALT-DESC;FMTTYPE=text/html:Live Music with Wally Germany & Dave Butler\nwww.wallygermany.com\n
LOCATION:Legends of Lake Norman 123 - E Trade Court\, Mooresville\, NC 28117
UID:e.220.4069
SEQUENCE:3
DTSTAMP:20260425T034341Z
URL:https://business.mooresvillenc.org/events/details/live-music-with-wally-germany-dave-butler-02-22-2008-4069
END:VEVENT

END:VCALENDAR
