BEGIN:VCALENDAR
VERSION:2.0
PRODID:-//ChamberMaster//Event Calendar 2.0//EN
METHOD:PUBLISH
X-PUBLISHED-TTL:P3D
REFRESH-INTERVAL:P3D
CALSCALE:GREGORIAN
BEGIN:VEVENT
DTSTART:20081018T233000Z
DTEND:20081019T013000Z
X-MICROSOFT-CDO-ALLDAYEVENT:FALSE
SUMMARY:Mooresville Concerts - Noel Freidline Quartet
DESCRIPTION:The Noel Freidline Quartet has performed nationally\, including The Bellagio Hotel in Las Vegas and in the movies "Oceans 11" and The Legends of Bagger Vance.  Playing since 1992\, this jazz quartet has built a signature sound built upon the innovative writing and arranging of Noel Friedline\, performing an eclectic mix of old and new.
X-ALT-DESC;FMTTYPE=text/html:The Noel Freidline Quartet has performed nationally\, including The Bellagio Hotel in Las Vegas and in the movies "Oceans 11" and The Legends of Bagger Vance.  Playing since 1992\, this jazz quartet has built a signature sound built upon the innovative writing and arranging of Noel Friedline\, performing an eclectic mix of old and new.
LOCATION:Joe Knox Theater\, Charles Mack Citizens Center\, 215 N. Main St\, Mooresville\, NC
UID:e.220.5713
SEQUENCE:3
DTSTAMP:20260424T135407Z
URL:https://business.mooresvillenc.org/events/details/mooresville-concerts-noel-freidline-quartet-10-18-2008-5713
END:VEVENT

END:VCALENDAR
