BEGIN:VCALENDAR
VERSION:2.0
PRODID:-//ChamberMaster//Event Calendar 2.0//EN
METHOD:PUBLISH
X-PUBLISHED-TTL:P3D
REFRESH-INTERVAL:P3D
CALSCALE:GREGORIAN
BEGIN:VEVENT
DTSTART:20080702T180000Z
DTEND:20080702T193000Z
X-MICROSOFT-CDO-ALLDAYEVENT:FALSE
SUMMARY:Mooresville Heritage Series ''Beautiful Lake Norman''
DESCRIPTION:Wednesday\, July 2nd  2:00pm  Mooresville Heritage Series ?Show & Tell?  South Iredell Sr Center\, downstairs at the Charles Mack Citizen Center\, 215 N. Main St.  All are welcome to attend and learn the history of ?Beautiful Lake Norman? Presenter: Cindy Jacobs 704-663-0350.   Free
X-ALT-DESC;FMTTYPE=text/html:Wednesday\, July 2nd  2:00pm  Mooresville Heritage Series ?Show & Tell?  South Iredell Sr Center\, downstairs at the Charles Mack Citizen Center\, 215 N. Main St.  All are welcome to attend and learn the history of ?Beautiful Lake Norman? Presenter: Cindy Jacobs 704-663-0350.   Free  
LOCATION:South Iredell Sr Center\, downstairs at the Charles Mack Citizen Center\, 215 N. Main St.
UID:e.220.5376
SEQUENCE:3
DTSTAMP:20260421T154353Z
URL:https://business.mooresvillenc.org/events/details/mooresville-heritage-series-beautiful-lake-norman-07-02-2008-5376
END:VEVENT

END:VCALENDAR
