BEGIN:VCALENDAR
VERSION:2.0
PRODID:-//ChamberMaster//Event Calendar 2.0//EN
METHOD:PUBLISH
X-PUBLISHED-TTL:P3D
REFRESH-INTERVAL:P3D
CALSCALE:GREGORIAN
BEGIN:VEVENT
DTSTART:20070502T180000Z
DTEND:20070502T190000Z
X-MICROSOFT-CDO-ALLDAYEVENT:FALSE
SUMMARY:Mooresville Heritage Series - ''Historic Mooresville Postcards''
DESCRIPTION:Wednesday\, May 2nd  2:00pm Mooresville Heritage Series "Historic Mooresville Postcards"\,   Charles Mack Citizen Center\, 215 N. Main Street downtown Mooresville.  Step back in time and learn the history of the lake through postcards\, slide show\, photographs and open discussion.  This series is sponsored by the Mooresville-South Iredell Chamber of Commerce\, South Iredell Senior Center\, presented by Cindy Jacobs www.mooresvillehistory.com  All are welcome!!
X-ALT-DESC;FMTTYPE=text/html:<p class="MsoNormal" style="MARGIN: 0in 0in 0pt"><span style="FONT-SIZE: 8pt\; FONT-FAMILY: &quot\;Book Antiqua&quot\;\; mso-bidi-font-size: 12.0pt">&nbsp\;<o:p></o:p></span></p><strong><span style="FONT-SIZE: 10pt\; COLOR: black\; FONT-FAMILY: &quot\;Book Antiqua&quot\;\; mso-fareast-font-family: 'Times New Roman'\; mso-bidi-font-family: 'Times New Roman'\; mso-ansi-language: EN-US\; mso-fareast-language: EN-US\; mso-bidi-language: AR-SA">Wednesday\, May 2<sup>nd</sup><span style="mso-spacerun: yes">&nbsp\; </span>2:00pm Mooresville Heritage Series &quot\;Historic Mooresville Postcards&rdquo\;\,</span></strong><span style="FONT-SIZE: 10pt\; COLOR: black\; FONT-FAMILY: &quot\;Book Antiqua&quot\;\; mso-fareast-font-family: 'Times New Roman'\; mso-bidi-font-family: 'Times New Roman'\; mso-ansi-language: EN-US\; mso-fareast-language: EN-US\; mso-bidi-language: AR-SA"><span style="mso-spacerun: yes">&nbsp\; </span><strong><span style="FONT-WEIGHT: normal"><span style="mso-spacerun: yes">&nbsp\;</span>Charles Mack Citizen Center\, 215 N. Main Street downtown Mooresville</span></strong><strong>.&nbsp\; </strong>Step back in time&nbsp\;and learn the history of the lake through postcards\, slide show\, photographs and open discussion.&nbsp\; This series is sponsored by the Mooresville-South Iredell Chamber of Commerce\, South Iredell Senior Center\, presented by Cindy Jacobs <a href="http://www.mooresvillehistory.com/"><font color="#800080">www.mooresvillehistory.com</font></a>&nbsp\; All are welcome!!</span>
LOCATION:Peddler Room in the Charles Mack Citizen Center\, 215 N. Main Street\, downtown Mooresville. (upstairs from the Iredell County Senior Center)
UID:e.220.1375
SEQUENCE:3
DTSTAMP:20260422T113739Z
URL:https://business.mooresvillenc.org/events/details/mooresville-heritage-series-historic-mooresville-postcards-05-02-2007-1375
END:VEVENT

END:VCALENDAR
