BEGIN:VCALENDAR
VERSION:2.0
PRODID:-//ChamberMaster//Event Calendar 2.0//EN
METHOD:PUBLISH
X-PUBLISHED-TTL:P3D
REFRESH-INTERVAL:P3D
CALSCALE:GREGORIAN
BEGIN:VEVENT
DTSTART:20070606T180000Z
DTEND:20070606T190000Z
X-MICROSOFT-CDO-ALLDAYEVENT:FALSE
SUMMARY:Mooresville Heritage Series - History Lesson on Mooresville
DESCRIPTION:Wednesday\, June 6th  2:00pm  Mooresville Heritage Series "the Lowrance Hospital" step back in time  with pictures\, postcards\, guest speakers and open discussion.   Charles Mack Citizen Center\, "Cedars Room" 215 N. Main Street\, Mooresville.  There is no charge\, attendees are welcome to bring their own coffee\, cold beverage and/or snacks in with them.  The event is free and open to the public.  Please tell your neighbors.
X-ALT-DESC;FMTTYPE=text/html:<span style="FONT-SIZE: 11pt\; FONT-FAMILY: &quot\;Book Antiqua&quot\;\; mso-bidi-font-size: 12.0pt\; mso-fareast-font-family: â??Times New Romanâ??\; mso-bidi-font-family: â??Times New Romanâ??\; mso-ansi-language: EN-US\; mso-fareast-language: EN-US\; mso-bidi-language: AR-SA"><strong>Wednesday\,&nbsp\;June 6th<span style="mso-spacerun: yes">&nbsp\; </span>2:00pm</strong></span><span style="FONT-SIZE: 11pt\; FONT-FAMILY: &quot\;Book Antiqua&quot\;\; mso-bidi-font-size: 12.0pt\; mso-fareast-font-family: â??Times New Romanâ??\; mso-bidi-font-family: â??Times New Romanâ??\; mso-ansi-language: EN-US\; mso-fareast-language: EN-US\; mso-bidi-language: AR-SA"><span style="mso-spacerun: yes">&nbsp\; </span>Mooresville Heritage Series &ldquo\;the Lowrance Hospital&rdquo\; step back in time<span style="mso-spacerun: yes">&nbsp\; </span>with pictures\, postcards\, guest speakers and open discussion.<span style="mso-spacerun: yes">&nbsp\;&nbsp\;<font color="#800000"><strong> </strong></font></span><font color="#800000"><strong>Charles Mack Citizen Center\, &ldquo\;Cedars Room&rdquo\; 215 N. Main Street\, Mooresville.</strong></font><span style="mso-spacerun: yes">&nbsp\; </span>There is no charge\, attendees are welcome to bring their own coffee\, cold beverage and/or snacks in&nbsp\;with them.&nbsp\; The event is free and open to the public.&nbsp\; Please tell your neighbors.&nbsp\; </span>
LOCATION:Charles Mack Citizen Center\, "Cedars Room" (Iredell County Senior Center) 215 N. Main Street Downtown Mooresville.
UID:e.220.106
SEQUENCE:3
DTSTAMP:20260422T101742Z
URL:https://business.mooresvillenc.org/events/details/mooresville-heritage-series-history-lesson-on-mooresville-06-06-2007-106
END:VEVENT

END:VCALENDAR
