BEGIN:VCALENDAR
VERSION:2.0
PRODID:-//ChamberMaster//Event Calendar 2.0//EN
METHOD:PUBLISH
X-PUBLISHED-TTL:P3D
REFRESH-INTERVAL:P3D
CALSCALE:GREGORIAN
BEGIN:VEVENT
DTSTART:20080405T190000Z
DTEND:20080405T230000Z
X-MICROSOFT-CDO-ALLDAYEVENT:FALSE
SUMMARY:Mooresville Lions Club- Eye Glasses needed
DESCRIPTION:The Helen Keller Branch of the Mooresville Lions Club will be collecting used eyeglasses for the visually impaired at the Mooresville Cruise-in.  Please bring your old glasses and donate for folks in need.
X-ALT-DESC;FMTTYPE=text/html:The Helen Keller Branch of the Mooresville Lions Club will be collecting used eyeglasses for the visually impaired at the Mooresville Cruise-in.  Please bring your old glasses and donate for folks in need.  
LOCATION:Mooresville Cruise-In\, Broad Street\, Mooresville
UID:e.220.4048
SEQUENCE:3
DTSTAMP:20260424T225903Z
URL:https://business.mooresvillenc.org/events/details/mooresville-lions-club-eye-glasses-needed-04-05-2008-4048
END:VEVENT

END:VCALENDAR
