BEGIN:VCALENDAR
VERSION:2.0
PRODID:-//ChamberMaster//Event Calendar 2.0//EN
METHOD:PUBLISH
X-PUBLISHED-TTL:P3D
REFRESH-INTERVAL:P3D
CALSCALE:GREGORIAN
BEGIN:VEVENT
DTSTART;VALUE=DATE:20080726
DTEND;VALUE=DATE:20080727
TRANSP:TRANSPARENT
X-MICROSOFT-CDO-ALLDAYEVENT:TRUE
SUMMARY:Movies on Main
DESCRIPTION:Check out "Movies on Main"\n\nBrought to you by the Town of Mooresville\, "Movies on Main" is a monthly event where you can bring your family to watch a Hollywood blockbuster in the charming auditorium of the Charles Mack Citizen Center. Each movie will be kid-friendly & FREE OF CHARGE. \nSo\, take a break from the heat and head to downtown Mooresville on Saturday July 26. Can't wait to see you there!\nVisit http://www.mooresville-nc.gov or call 704-662-3334 for more information about this month's movie.
X-ALT-DESC;FMTTYPE=text/html:Check out "Movies on Main"\n\nBrought to you by the Town of Mooresville\, "Movies on Main" is a monthly event where you can bring your family to watch a Hollywood blockbuster in the charming auditorium of the Charles Mack Citizen Center. Each movie will be kid-friendly & FREE OF CHARGE. \nSo\, take a break from the heat and head to downtown Mooresville on Saturday July 26. Can't wait to see you there!\nVisit http://www.mooresville-nc.gov or call 704-662-3334 for more information about this month's movie. 
LOCATION:Charles Mack Citizen Center 215 North Main St. Mooresville
UID:e.220.5395
SEQUENCE:3
DTSTAMP:20260424T182356Z
URL:https://business.mooresvillenc.org/events/details/movies-on-main-07-26-2008-5395
END:VEVENT

END:VCALENDAR
