BEGIN:VCALENDAR
VERSION:2.0
PRODID:-//ChamberMaster//Event Calendar 2.0//EN
METHOD:PUBLISH
X-PUBLISHED-TTL:P3D
REFRESH-INTERVAL:P3D
CALSCALE:GREGORIAN
BEGIN:VEVENT
DTSTART:20081206T150000Z
DTEND:20081206T210000Z
X-MICROSOFT-CDO-ALLDAYEVENT:FALSE
SUMMARY:Professional Photos with Santa Claus!!
DESCRIPTION:Bring the kids or the entire family in for photos with Santa.  You will not believe the great deals you can get and will have the photos in time for Christmas gift giving.
X-ALT-DESC;FMTTYPE=text/html:Bring the kids or the entire family in for photos with Santa.  You will not believe the great deals you can get and will have the photos in time for Christmas gift giving.  
LOCATION:Portrait Pizzazz 584 Brawley School Road (plaza next to Wendy's) Mooresville
UID:e.220.6047
SEQUENCE:3
DTSTAMP:20260421T083849Z
URL:https://business.mooresvillenc.org/events/details/professional-photos-with-santa-claus-12-06-2008-6047
END:VEVENT

END:VCALENDAR
