BEGIN:VCALENDAR
VERSION:2.0
PRODID:-//ChamberMaster//Event Calendar 2.0//EN
METHOD:PUBLISH
X-PUBLISHED-TTL:P3D
REFRESH-INTERVAL:P3D
CALSCALE:GREGORIAN
BEGIN:VEVENT
DTSTART:20080420T140000Z
DTEND:20080421T200000Z
X-MICROSOFT-CDO-ALLDAYEVENT:FALSE
SUMMARY:War for Empire 1758
DESCRIPTION:Fort Dobbs comes alive with soldiers\, Indians and civilians as teh bring to life North Carolina's role in the French and Indian War.  Thrill at the pageantry of arms and sounds of muskets as soldiers drill\, natives ready themselves for war\, and civilians deal with the realities of conflict.  The event will feature a recreated skirmish as well as scholarly lectures from guest speakers.
X-ALT-DESC;FMTTYPE=text/html:Fort Dobbs comes alive with soldiers\, Indians and civilians as teh bring to life North Carolina's role in the French and Indian War.  Thrill at the pageantry of arms and sounds of muskets as soldiers drill\, natives ready themselves for war\, and civilians deal with the realities of conflict.  The event will feature a recreated skirmish as well as scholarly lectures from guest speakers.  
LOCATION:Fort Dobbs State Historic Site\, 438 Fort Dobbs Rd.\, Statesville\, NC 28625
UID:e.220.4647
SEQUENCE:3
DTSTAMP:20260424T225740Z
URL:https://business.mooresvillenc.org/events/details/war-for-empire-1758-04-20-2008-4647
END:VEVENT

END:VCALENDAR
