BEGIN:VCALENDAR
VERSION:2.0
PRODID:-//ChamberMaster//Event Calendar 2.0//EN
METHOD:PUBLISH
X-PUBLISHED-TTL:P3D
REFRESH-INTERVAL:P3D
CALSCALE:GREGORIAN
BEGIN:VEVENT
DTSTART:20080627T230000Z
DTEND:20080628T030000Z
X-MICROSOFT-CDO-ALLDAYEVENT:FALSE
SUMMARY:Weekend Wrap Up - Music @ Soiree
DESCRIPTION:Music on the back patio of Soiree to Wrap Up the week.\nInside music & specials also.\n\nEvery Friday through Summer starting around 7pm.
X-ALT-DESC;FMTTYPE=text/html:Music on the back patio of Soiree to Wrap Up the week.\nInside music & specials also.\n\nEvery Friday through Summer starting around 7pm.
LOCATION:Soiree
UID:e.220.5390
SEQUENCE:3
DTSTAMP:20260424T195855Z
URL:https://business.mooresvillenc.org/events/details/weekend-wrap-up-music-soiree-06-27-2008-5390
END:VEVENT

END:VCALENDAR
