BEGIN:VCALENDAR
VERSION:2.0
PRODID:-//ChamberMaster//Event Calendar 2.0//EN
METHOD:PUBLISH
X-PUBLISHED-TTL:P3D
REFRESH-INTERVAL:P3D
CALSCALE:GREGORIAN
BEGIN:VEVENT
DTSTART:20080122T233000Z
DTEND:20080123T013000Z
X-MICROSOFT-CDO-ALLDAYEVENT:FALSE
SUMMARY:Wine & Cheese Pairing
DESCRIPTION:Wines Paired with Cheeses
X-ALT-DESC;FMTTYPE=text/html:Wines Paired with Cheeses
LOCATION:Legends of Lake Norman
UID:e.220.4004
SEQUENCE:3
DTSTAMP:20260425T033643Z
URL:https://business.mooresvillenc.org/events/details/wine-cheese-pairing-01-22-2008-4004
END:VEVENT

END:VCALENDAR
