BEGIN:VCALENDAR
VERSION:2.0
PRODID:-//ChamberMaster//Event Calendar 2.0//EN
METHOD:PUBLISH
X-PUBLISHED-TTL:P3D
REFRESH-INTERVAL:P3D
CALSCALE:GREGORIAN
BEGIN:VEVENT
DTSTART:20080219T233000Z
DTEND:20080219T233000Z
X-MICROSOFT-CDO-ALLDAYEVENT:FALSE
SUMMARY:Wine & Cheese Pairing
DESCRIPTION:Two Select Wines paired with Two Select Cheeses
X-ALT-DESC;FMTTYPE=text/html:Two Select Wines paired with Two Select Cheeses
LOCATION:Legends of Lake Norman
UID:e.220.4067
SEQUENCE:3
DTSTAMP:20260425T020323Z
URL:https://business.mooresvillenc.org/events/details/wine-cheese-pairing-02-19-2008-4067
END:VEVENT

END:VCALENDAR
