BEGIN:VCALENDAR
VERSION:2.0
PRODID:-//ChamberMaster//Event Calendar 2.0//EN
METHOD:PUBLISH
X-PUBLISHED-TTL:P3D
REFRESH-INTERVAL:P3D
CALSCALE:GREGORIAN
BEGIN:VEVENT
DTSTART:20080226T233000Z
DTEND:20080227T013000Z
X-MICROSOFT-CDO-ALLDAYEVENT:FALSE
SUMMARY:Wine & Cheese Pairing
DESCRIPTION:Two wines paired with two cheeses
X-ALT-DESC;FMTTYPE=text/html:Two wines paired with two cheeses
LOCATION:Legends of Lake Norman 123 - E Trade Court\, Mooresville\, NC 28117
UID:e.220.4072
SEQUENCE:3
DTSTAMP:20260425T020346Z
URL:https://business.mooresvillenc.org/events/details/wine-cheese-pairing-02-26-2008-4072
END:VEVENT

END:VCALENDAR
