BEGIN:VCALENDAR
VERSION:2.0
PRODID:-//ChamberMaster//Event Calendar 2.0//EN
METHOD:PUBLISH
X-PUBLISHED-TTL:P3D
REFRESH-INTERVAL:P3D
CALSCALE:GREGORIAN
BEGIN:VEVENT
DTSTART:20080115T233000Z
DTEND:20080116T013000Z
X-MICROSOFT-CDO-ALLDAYEVENT:FALSE
SUMMARY:Wine & Cheese Pairing at Legends of Lake Norman
DESCRIPTION:Wines paired with Cheese
X-ALT-DESC;FMTTYPE=text/html:Wines paired with Cheese
LOCATION:Legends of Lake Norman 123 - E Trade Court\, Mooresville\, NC (Gateway Business Park - Exit 33)
UID:e.220.4002
SEQUENCE:3
DTSTAMP:20260425T034458Z
URL:https://business.mooresvillenc.org/events/details/wine-cheese-pairing-at-legends-of-lake-norman-01-15-2008-4002
END:VEVENT

END:VCALENDAR
