BEGIN:VCALENDAR
VERSION:2.0
PRODID:-//ChamberMaster//Event Calendar 2.0//EN
METHOD:PUBLISH
X-PUBLISHED-TTL:P3D
REFRESH-INTERVAL:P3D
CALSCALE:GREGORIAN
BEGIN:VEVENT
DTSTART:20080325T223000Z
DTEND:20080326T003000Z
X-MICROSOFT-CDO-ALLDAYEVENT:FALSE
SUMMARY:Wine Tasting and Cheese Pairing
DESCRIPTION:Wine Tasting & Cheese Pairing\nTwo Wines paired with Two Cheeses
X-ALT-DESC;FMTTYPE=text/html:Wine Tasting & Cheese Pairing\nTwo Wines paired with Two Cheeses\n
LOCATION:Legends of Lake Norman 123-E Trade Court\, Gateway Blvd\, Mooresville
UID:e.220.4436
SEQUENCE:3
DTSTAMP:20260425T015639Z
URL:https://business.mooresvillenc.org/events/details/wine-tasting-and-cheese-pairing-03-25-2008-4436
END:VEVENT

END:VCALENDAR
