BEGIN:VCALENDAR
VERSION:2.0
PRODID:-//ChamberMaster//Event Calendar 2.0//EN
METHOD:PUBLISH
X-PUBLISHED-TTL:P3D
REFRESH-INTERVAL:P3D
CALSCALE:GREGORIAN
BEGIN:VEVENT
DTSTART:20080318T223000Z
DTEND:20080319T003000Z
X-MICROSOFT-CDO-ALLDAYEVENT:FALSE
SUMMARY:Wine Tasting & Cheese Pairing
DESCRIPTION:Wine & Cheese Tasting\nTwo Wines paired with Two cheeses.\nGreat opportunity to sample wines and cheese paired together.
X-ALT-DESC;FMTTYPE=text/html:Wine & Cheese Tasting\nTwo Wines paired with Two cheeses.\nGreat opportunity to sample wines and cheese paired together.
LOCATION:Legends of Lake Norman
UID:e.220.4431
SEQUENCE:3
DTSTAMP:20260425T015646Z
URL:https://business.mooresvillenc.org/events/details/wine-tasting-cheese-pairing-03-18-2008-4431
END:VEVENT

END:VCALENDAR
