BEGIN:VCALENDAR
VERSION:2.0
PRODID:-//ChamberMaster//Event Calendar 2.0//EN
METHOD:PUBLISH
X-PUBLISHED-TTL:P3D
REFRESH-INTERVAL:P3D
CALSCALE:GREGORIAN
BEGIN:VEVENT
DTSTART:20080110T233000Z
DTEND:20080111T013000Z
X-MICROSOFT-CDO-ALLDAYEVENT:FALSE
SUMMARY:Wine Tasting & Live Music
DESCRIPTION:Wine Tasting: Includes select wines\, appetizers and live music by Jayne Sprinkle.
X-ALT-DESC;FMTTYPE=text/html:Wine Tasting: Includes select wines\, appetizers and live music by Jayne Sprinkle.
LOCATION:Legends of Lake Norman
UID:e.220.3982
SEQUENCE:3
DTSTAMP:20260425T033852Z
URL:https://business.mooresvillenc.org/events/details/wine-tasting-live-music-01-10-2008-3982
END:VEVENT

END:VCALENDAR
