BEGIN:VCALENDAR
VERSION:2.0
PRODID:-//ChamberMaster//Event Calendar 2.0//EN
METHOD:PUBLISH
X-PUBLISHED-TTL:P3D
REFRESH-INTERVAL:P3D
CALSCALE:GREGORIAN
BEGIN:VEVENT
DTSTART:20080117T233000Z
DTEND:20080118T013000Z
X-MICROSOFT-CDO-ALLDAYEVENT:FALSE
SUMMARY:Wine Tasting & Live Music
DESCRIPTION:Select Wines to taste with appetizers.  LIve Music by Little Sister
X-ALT-DESC;FMTTYPE=text/html:Select Wines to taste with appetizers.  LIve Music by Little Sister
LOCATION:Legends of Lake Norman
UID:e.220.3987
SEQUENCE:3
DTSTAMP:20260425T033902Z
URL:https://business.mooresvillenc.org/events/details/wine-tasting-live-music-01-17-2008-3987
END:VEVENT

END:VCALENDAR
