BEGIN:VCALENDAR
VERSION:2.0
PRODID:-//ChamberMaster//Event Calendar 2.0//EN
METHOD:PUBLISH
X-PUBLISHED-TTL:P3D
REFRESH-INTERVAL:P3D
CALSCALE:GREGORIAN
BEGIN:VEVENT
DTSTART:20080124T233000Z
DTEND:20080124T233000Z
X-MICROSOFT-CDO-ALLDAYEVENT:FALSE
SUMMARY:Wine Tasting & Live Music
DESCRIPTION:
X-ALT-DESC;FMTTYPE=text/html:
LOCATION:Legends of Lake Norman
UID:e.220.3990
SEQUENCE:3
DTSTAMP:20260425T033903Z
URL:https://business.mooresvillenc.org/events/details/wine-tasting-live-music-01-24-2008-3990
END:VEVENT

END:VCALENDAR
