BEGIN:VCALENDAR
VERSION:2.0
PRODID:-//ChamberMaster//Event Calendar 2.0//EN
METHOD:PUBLISH
X-PUBLISHED-TTL:P3D
REFRESH-INTERVAL:P3D
CALSCALE:GREGORIAN
BEGIN:VEVENT
DTSTART:20080221T233000Z
DTEND:20080222T013000Z
X-MICROSOFT-CDO-ALLDAYEVENT:FALSE
SUMMARY:Wine Tasting & Live Music by Jack Dawson
DESCRIPTION:Four Select Wines\, appetizers and live music by Jack Dawson
X-ALT-DESC;FMTTYPE=text/html:Four Select Wines\, appetizers and live music by Jack Dawson
LOCATION:Legends of Lake Norman 123 - E Trade Court\, Mooresville\, NC 28117
UID:e.220.4068
SEQUENCE:3
DTSTAMP:20260425T033331Z
URL:https://business.mooresvillenc.org/events/details/wine-tasting-live-music-by-jack-dawson-02-21-2008-4068
END:VEVENT

END:VCALENDAR
